BEGIN:VCALENDAR
PRODID:-//Webforum AB//ECM 0.0//EN
VERSION:2.0
CALSCALE:GREGORIAN
METHOD:PUBLISH
X-WR-CALNAM:KALENDARIUM
BEGIN:VEVENT
UID:pid11586-wid79878-eid110329
SUMMARY:Medlemsmingel - SAVE THE DATE
LOCATION:Drottning Victorias Örlogshem\, plan 5\, Teatergatan 2
CREATED:20260421T183856Z
LAST-MODIFIED:20260421T184139Z
DTSTAMP:20260422T014816Z
DTSTART;VALUE=DATE:20260602
DESCRIPTION:Vårt traditionella mingel inför sommaruppehållet. Mer info 
 kommer.
X-ALT-DESC;FMTTYPE=text/html:Vårt traditionella mingel inför sommaruppeh
 ållet. Mer info kommer.
URL:http://slfk.se/web/page.aspx?refid=8&eventid=110329&page=
END:VEVENT
END:VCALENDAR
